BEGIN:VCALENDAR
VERSION:2.0
PRODID:-//Leukaemia UK - ECPv6.15.17//NONSGML v1.0//EN
CALSCALE:GREGORIAN
METHOD:PUBLISH
X-WR-CALNAME:Leukaemia UK
X-ORIGINAL-URL:https://www.leukaemiauk.org.uk
X-WR-CALDESC:Events for Leukaemia UK
REFRESH-INTERVAL;VALUE=DURATION:PT1H
X-Robots-Tag:noindex
X-PUBLISHED-TTL:PT1H
BEGIN:VTIMEZONE
TZID:Europe/London
BEGIN:DAYLIGHT
TZOFFSETFROM:+0000
TZOFFSETTO:+0100
TZNAME:BST
DTSTART:20230326T010000
END:DAYLIGHT
BEGIN:STANDARD
TZOFFSETFROM:+0100
TZOFFSETTO:+0000
TZNAME:GMT
DTSTART:20231029T010000
END:STANDARD
BEGIN:DAYLIGHT
TZOFFSETFROM:+0000
TZOFFSETTO:+0100
TZNAME:BST
DTSTART:20240331T010000
END:DAYLIGHT
BEGIN:STANDARD
TZOFFSETFROM:+0100
TZOFFSETTO:+0000
TZNAME:GMT
DTSTART:20241027T010000
END:STANDARD
BEGIN:DAYLIGHT
TZOFFSETFROM:+0000
TZOFFSETTO:+0100
TZNAME:BST
DTSTART:20250330T010000
END:DAYLIGHT
BEGIN:STANDARD
TZOFFSETFROM:+0100
TZOFFSETTO:+0000
TZNAME:GMT
DTSTART:20251026T010000
END:STANDARD
END:VTIMEZONE
BEGIN:VEVENT
DTSTART;VALUE=DATE:20240324
DTEND;VALUE=DATE:20240325
DTSTAMP:20260423T131059
CREATED:20220928T095535Z
LAST-MODIFIED:20230724T075405Z
UID:8068-1711238400-1711324799@www.leukaemiauk.org.uk
SUMMARY:Wolverhampton 10K: March 2024
DESCRIPTION:Join us for the brand new ROAD CLOSED Wolverhampton 10k. \nStarting and finishing at Molineux Stadium this race is open to all abilities and offers the perfect opportunity to run a chip timed 10k! \nYou will each get a unique themed medal\, free official race photos\, chip times results and post-race snacks. Each kilometre will be accurately marked out with distance flags and we have plenty of helpers to keep you on track and to encourage you on your way to the finish. \nSign me up! \nWhat you’ll get from Leukaemia UK \n\nLeukaemia UK running vest\nChallenge pack\, including sponsorship forms and helpful training and fundraising advice\nDedicated support from our fantastic fundraising team\n\nInterested? Please contact our fundraising team on events@leukaemiauk.org.uk \nCheck Out Our Other Fundraising Events
URL:https://www.leukaemiauk.org.uk/event/wolverhampton-10k-march-2023/
LOCATION:Wolverhampton
CATEGORIES:Running
ATTACH;FMTTYPE=image/jpeg:https://www.leukaemiauk.org.uk/app/uploads/2022/09/12232819_988772911164369_3319093789252665467_o.jpg
END:VEVENT
END:VCALENDAR