BEGIN:VCALENDAR
VERSION:2.0
PRODID:-//Leukaemia UK - ECPv6.15.17//NONSGML v1.0//EN
CALSCALE:GREGORIAN
METHOD:PUBLISH
X-WR-CALNAME:Leukaemia UK
X-ORIGINAL-URL:https://www.leukaemiauk.org.uk
X-WR-CALDESC:Events for Leukaemia UK
REFRESH-INTERVAL;VALUE=DURATION:PT1H
X-Robots-Tag:noindex
X-PUBLISHED-TTL:PT1H
BEGIN:VTIMEZONE
TZID:Europe/London
BEGIN:DAYLIGHT
TZOFFSETFROM:+0000
TZOFFSETTO:+0100
TZNAME:BST
DTSTART:20210328T010000
END:DAYLIGHT
BEGIN:STANDARD
TZOFFSETFROM:+0100
TZOFFSETTO:+0000
TZNAME:GMT
DTSTART:20211031T010000
END:STANDARD
BEGIN:DAYLIGHT
TZOFFSETFROM:+0000
TZOFFSETTO:+0100
TZNAME:BST
DTSTART:20220327T010000
END:DAYLIGHT
BEGIN:STANDARD
TZOFFSETFROM:+0100
TZOFFSETTO:+0000
TZNAME:GMT
DTSTART:20221030T010000
END:STANDARD
BEGIN:DAYLIGHT
TZOFFSETFROM:+0000
TZOFFSETTO:+0100
TZNAME:BST
DTSTART:20230326T010000
END:DAYLIGHT
BEGIN:STANDARD
TZOFFSETFROM:+0100
TZOFFSETTO:+0000
TZNAME:GMT
DTSTART:20231029T010000
END:STANDARD
END:VTIMEZONE
BEGIN:VEVENT
DTSTART;VALUE=DATE:20221201
DTEND;VALUE=DATE:20230101
DTSTAMP:20260422T090813
CREATED:20220715T074206Z
LAST-MODIFIED:20220729T113337Z
UID:3265-1669852800-1672531199@www.leukaemiauk.org.uk
SUMMARY:Virtual Charity Challenge: December 2022
DESCRIPTION:This is a fantastic opportunity for you to come up with your own virtual charity challenge and then complete it. Please contact us for inspiration and we can discuss your challenge and get you started. Your challenge could be done alone\, as a pair or in a large team. Get creative & then get active! \nSome ideas could be climbing the height of Everest at home\, the pressup challenge\, (100 press ups a day for a month) going sober for a month\, running a 5k backwards\, the crazier the better. \nWe really appreciate every fundraiser that chooses to support us and by doing your bit\, you are making a real difference. \nTo take part\, you must be aged 17 or older by the time of the race in December 2022. \nWhat you’ll get from Leukaemia UK \n\nLeukaemia UK running vest\nChallenge pack\, including sponsorship forms and helpful training and fundraising advice\nDedicated support from our fantastic fundraising team\n\nInterested? Please contact Hanna on fundraising@leukaemiauk.org.uk \nCheck Out Our Other Fundraising Events
URL:https://www.leukaemiauk.org.uk/event/virtual-charity-challenge/
LOCATION:Anywhere
CATEGORIES:Running,Social Events,Virtual,Walking
ATTACH;FMTTYPE=image/jpeg:https://www.leukaemiauk.org.uk/app/uploads/2022/07/getimage-66-scaled.jpeg
END:VEVENT
END:VCALENDAR