BEGIN:VCALENDAR
VERSION:2.0
PRODID:-//Leukaemia UK - ECPv6.15.17//NONSGML v1.0//EN
CALSCALE:GREGORIAN
METHOD:PUBLISH
X-WR-CALNAME:Leukaemia UK
X-ORIGINAL-URL:https://www.leukaemiauk.org.uk
X-WR-CALDESC:Events for Leukaemia UK
REFRESH-INTERVAL;VALUE=DURATION:PT1H
X-Robots-Tag:noindex
X-PUBLISHED-TTL:PT1H
BEGIN:VTIMEZONE
TZID:Europe/London
BEGIN:DAYLIGHT
TZOFFSETFROM:+0000
TZOFFSETTO:+0100
TZNAME:BST
DTSTART:20250330T010000
END:DAYLIGHT
BEGIN:STANDARD
TZOFFSETFROM:+0100
TZOFFSETTO:+0000
TZNAME:GMT
DTSTART:20251026T010000
END:STANDARD
BEGIN:DAYLIGHT
TZOFFSETFROM:+0000
TZOFFSETTO:+0100
TZNAME:BST
DTSTART:20260329T010000
END:DAYLIGHT
BEGIN:STANDARD
TZOFFSETFROM:+0100
TZOFFSETTO:+0000
TZNAME:GMT
DTSTART:20261025T010000
END:STANDARD
BEGIN:DAYLIGHT
TZOFFSETFROM:+0000
TZOFFSETTO:+0100
TZNAME:BST
DTSTART:20270328T010000
END:DAYLIGHT
BEGIN:STANDARD
TZOFFSETFROM:+0100
TZOFFSETTO:+0000
TZNAME:GMT
DTSTART:20271031T010000
END:STANDARD
END:VTIMEZONE
BEGIN:VEVENT
DTSTART;VALUE=DATE:20260913
DTEND;VALUE=DATE:20260914
DTSTAMP:20260424T100849
CREATED:20251112T143241Z
LAST-MODIFIED:20251112T143241Z
UID:20221-1789257600-1789343999@www.leukaemiauk.org.uk
SUMMARY:The Henley 10K: September 2026
DESCRIPTION:The Henley 10k is alongside the Thames Path Challenge’s main finish venue. It’s a fabulous 10 km loop through Remenham countryside with a start / finish near Henley Bridge on Sunday morning. Take it on as a Walk\, a Jog\, or as a Run – and get your family and friends involved. \nOur Henley riverside base camp is a great location for a ‘Mini Challenge’ and with an optional finishers meal\, a ‘Toddler 2K’ fun event – there is something for everyone down by the river! \nSponsorship: Different options available. \nWhat you’ll get from Leukaemia UK \n\nLeukaemia UK running vest\nChallenge pack\, including sponsorship forms and helpful training and fundraising advice\nDedicated support from our fantastic fundraising team\n\nInterested? Contact Hanna on fundraising@leukaemiauk.org.uk or sign up here.
URL:https://www.leukaemiauk.org.uk/event/the-henley-10k-september-2026/
CATEGORIES:Social Events,Walking
ATTACH;FMTTYPE=image/png:https://www.leukaemiauk.org.uk/app/uploads/2025/11/H10-glow.png
END:VEVENT
END:VCALENDAR