BEGIN:VCALENDAR
VERSION:2.0
PRODID:-//Leukaemia UK - ECPv6.15.17//NONSGML v1.0//EN
CALSCALE:GREGORIAN
METHOD:PUBLISH
X-WR-CALNAME:Leukaemia UK
X-ORIGINAL-URL:https://www.leukaemiauk.org.uk
X-WR-CALDESC:Events for Leukaemia UK
REFRESH-INTERVAL;VALUE=DURATION:PT1H
X-Robots-Tag:noindex
X-PUBLISHED-TTL:PT1H
BEGIN:VTIMEZONE
TZID:Europe/London
BEGIN:DAYLIGHT
TZOFFSETFROM:+0000
TZOFFSETTO:+0100
TZNAME:BST
DTSTART:20240331T010000
END:DAYLIGHT
BEGIN:STANDARD
TZOFFSETFROM:+0100
TZOFFSETTO:+0000
TZNAME:GMT
DTSTART:20241027T010000
END:STANDARD
BEGIN:DAYLIGHT
TZOFFSETFROM:+0000
TZOFFSETTO:+0100
TZNAME:BST
DTSTART:20250330T010000
END:DAYLIGHT
BEGIN:STANDARD
TZOFFSETFROM:+0100
TZOFFSETTO:+0000
TZNAME:GMT
DTSTART:20251026T010000
END:STANDARD
BEGIN:DAYLIGHT
TZOFFSETFROM:+0000
TZOFFSETTO:+0100
TZNAME:BST
DTSTART:20260329T010000
END:DAYLIGHT
BEGIN:STANDARD
TZOFFSETFROM:+0100
TZOFFSETTO:+0000
TZNAME:GMT
DTSTART:20261025T010000
END:STANDARD
END:VTIMEZONE
BEGIN:VEVENT
DTSTART;VALUE=DATE:20251204
DTEND;VALUE=DATE:20251205
DTSTAMP:20260422T143605
CREATED:20230619T131924Z
LAST-MODIFIED:20250827T102739Z
UID:11752-1764806400-1764892799@www.leukaemiauk.org.uk
SUMMARY:Santa in the City London (Thursday): December 2025
DESCRIPTION:Your Santa Run will begin at 7:00 pm the 4.5km route starting in Paternoster Square just by the majestic St Paul’s Cathedral. You will then run along the North bank where there will be fantastic river views\, before crossing the Thames via Southwark bridge. \nThe route will then take you along the Thames path past Shakespeare’s Globe and then heading towards Tate Modern\, where you will cross the river once again\, this time over the millenium bridge.  You will be able to enjoy breathtaking views of the beautifully lit St Paul’s Cathedral\, before finally returning to Paternoster Square\, completing a truly iconic route! \nNo previous experience is needed for a run like this. The route is 4.5km\, relatively flat and you can run\, jog or walk. Santa in the City is a great way to get you into the festive spirit! \nPlease note that you will need to collect your Santa Suit on the day from 8.30 am from our collection point\, Paternoster Square\, City of London. \nSign me up! \nWhat you’ll get from Leukaemia UK \n\nLeukaemia UK running vest\nChallenge pack\, including sponsorship forms and helpful training and fundraising advice\nDedicated support from our fantastic fundraising team\n\nInterested? Please contact our fundraising team on fundraising@leukaemiauk.org.uk \nCheck Out Our Other Fundraising Events
URL:https://www.leukaemiauk.org.uk/event/santa-in-the-city-london-thursday-december-2025/
CATEGORIES:Running,Social Events,Virtual,Walking
ATTACH;FMTTYPE=image/jpeg:https://www.leukaemiauk.org.uk/app/uploads/2022/07/santa-g2704383d9_1280.jpg
END:VEVENT
END:VCALENDAR