BEGIN:VCALENDAR
VERSION:2.0
PRODID:-//Leukaemia UK - ECPv6.15.17//NONSGML v1.0//EN
CALSCALE:GREGORIAN
METHOD:PUBLISH
X-WR-CALNAME:Leukaemia UK
X-ORIGINAL-URL:https://www.leukaemiauk.org.uk
X-WR-CALDESC:Events for Leukaemia UK
REFRESH-INTERVAL;VALUE=DURATION:PT1H
X-Robots-Tag:noindex
X-PUBLISHED-TTL:PT1H
BEGIN:VTIMEZONE
TZID:Europe/London
BEGIN:DAYLIGHT
TZOFFSETFROM:+0000
TZOFFSETTO:+0100
TZNAME:BST
DTSTART:20250330T010000
END:DAYLIGHT
BEGIN:STANDARD
TZOFFSETFROM:+0100
TZOFFSETTO:+0000
TZNAME:GMT
DTSTART:20251026T010000
END:STANDARD
BEGIN:DAYLIGHT
TZOFFSETFROM:+0000
TZOFFSETTO:+0100
TZNAME:BST
DTSTART:20260329T010000
END:DAYLIGHT
BEGIN:STANDARD
TZOFFSETFROM:+0100
TZOFFSETTO:+0000
TZNAME:GMT
DTSTART:20261025T010000
END:STANDARD
BEGIN:DAYLIGHT
TZOFFSETFROM:+0000
TZOFFSETTO:+0100
TZNAME:BST
DTSTART:20270328T010000
END:DAYLIGHT
BEGIN:STANDARD
TZOFFSETFROM:+0100
TZOFFSETTO:+0000
TZNAME:GMT
DTSTART:20271031T010000
END:STANDARD
END:VTIMEZONE
BEGIN:VEVENT
DTSTART;VALUE=DATE:20260620
DTEND;VALUE=DATE:20260622
DTSTAMP:20260424T101312
CREATED:20251112T141811Z
LAST-MODIFIED:20251112T141909Z
UID:20211-1781913600-1782086399@www.leukaemiauk.org.uk
SUMMARY:North Yorks: June 2026
DESCRIPTION:Set to be one of the greatest Ultra Challenges – basecamp is in Scarborough – famous for its Fair\, and a popular seaside spa since the 17th century. The route heads around the town & beaches\, past the castle and then north along the Cleveland Way\, with a stunning & historic coastline up through Robin Hood Bay and onwards to Whitby\, of Captain Cook & Abbey fame\, and our welcome halfway 50km stop. For full 100km challengers\, it’s inland along the Esk Valley before heading south into classic moorland scenery. On through Moors Park Forest – joining the Tabular Hills Walk back to Scarborough basecamp\, where a big celebration awaits at the finish of an epic challenge! \nSponsorship: Different options available. \n\n\n\n\n\n\n\nWhat you’ll get from Leukaemia UK \n\nLeukaemia UK running vest\nChallenge pack\, including sponsorship forms and helpful training and fundraising advice\nDedicated support from our fantastic fundraising team\n\nInterested? Contact the team on fundraising@leukaemiauk.org.uk or sign up here  \n\nCheck Out Our Other Fundraising Events
URL:https://www.leukaemiauk.org.uk/event/north-yorks-june-2026/
CATEGORIES:Social Events,Walking
ATTACH;FMTTYPE=image/png:https://www.leukaemiauk.org.uk/app/uploads/2025/11/North-Yorks_Ultra_Challenge_Logo-Final-400.png
END:VEVENT
END:VCALENDAR