BEGIN:VCALENDAR
VERSION:2.0
PRODID:-//Leukaemia UK - ECPv6.15.17//NONSGML v1.0//EN
CALSCALE:GREGORIAN
METHOD:PUBLISH
X-WR-CALNAME:Leukaemia UK
X-ORIGINAL-URL:https://www.leukaemiauk.org.uk
X-WR-CALDESC:Events for Leukaemia UK
REFRESH-INTERVAL;VALUE=DURATION:PT1H
X-Robots-Tag:noindex
X-PUBLISHED-TTL:PT1H
BEGIN:VTIMEZONE
TZID:Europe/London
BEGIN:DAYLIGHT
TZOFFSETFROM:+0000
TZOFFSETTO:+0100
TZNAME:BST
DTSTART:20210328T010000
END:DAYLIGHT
BEGIN:STANDARD
TZOFFSETFROM:+0100
TZOFFSETTO:+0000
TZNAME:GMT
DTSTART:20211031T010000
END:STANDARD
BEGIN:DAYLIGHT
TZOFFSETFROM:+0000
TZOFFSETTO:+0100
TZNAME:BST
DTSTART:20220327T010000
END:DAYLIGHT
BEGIN:STANDARD
TZOFFSETFROM:+0100
TZOFFSETTO:+0000
TZNAME:GMT
DTSTART:20221030T010000
END:STANDARD
BEGIN:DAYLIGHT
TZOFFSETFROM:+0000
TZOFFSETTO:+0100
TZNAME:BST
DTSTART:20230326T010000
END:DAYLIGHT
BEGIN:STANDARD
TZOFFSETFROM:+0100
TZOFFSETTO:+0000
TZNAME:GMT
DTSTART:20231029T010000
END:STANDARD
END:VTIMEZONE
BEGIN:VEVENT
DTSTART;TZID=Europe/London:20220715T000000
DTEND;TZID=Europe/London:20220715T000000
DTSTAMP:20260421T112208
CREATED:20220715T074347Z
LAST-MODIFIED:20220715T082001Z
UID:3307-1657843200-1657843200@www.leukaemiauk.org.uk
SUMMARY:Event Terms & Conditions
DESCRIPTION:By applying for a Leukaemia UK charity place at an event organised by a third party (an ‘Event’)\, you accept and agree to abide by the following terms: \nYour Charity Place  \n\nLeukaemia UK only has a limited number of places for each Event\, and therefore no guarantees can be given that your application will be successful. We also reserve the right to refuse any application at our absolute discretion\, without providing reasons for doing so. We will contact you in due course to confirm the status of your application.\nIf your application is successful\, we will ensure that your place is reserved for that Event\, but you will still be required to register with the Event organiser to confirm your place. We will provide you with further information about this at a later stage. Please note that failure to register with the Event organiser may result in your place being lost\, but you will not be entitled to a refund in these circumstances if you have paid a fee for your place.\nIf you are required to pay for a Leukaemia UK charity place as part of the application process\, we regret that we are unable to refund any payment unless your application is unsuccessful\, or your application is successful but the Event is subsequently cancelled.\nIf you are granted a Leukaemia UK charity place\, please note this place is non-transferable. Any attempt to transfer your place may result in this place being lost\, but you will not be entitled to a refund if you have paid a fee for your place.\nIn the event of being unable to participate due to injury or any other issue\, you must let Leukaemia UK know as soon as possible so that your place may be cancelled. If you withdraw after the event entry deadline (which\, unless otherwise communicated to you by Leukaemia UK\, is the point at which you have completed your official registration with the event organisers) you may be held responsible for your fundraising commitment.\n\nParticipation in the Event  \n\nIf your application is successful you will be required to sign up to\, and comply with\, the Event organiser’s Event rules and/ or terms and conditions. Please read these carefully\, as they will set out the Event organiser’s obligations and liabilities to you and vice versa.\nWhen taking part in an Event\, we ask that you avoid behaving in any way which may cause offence or damage the reputation of Leukaemia UK\, for example by using aggressive or abusive language\, or by behaving in a way which may cause injury or harm to other participants and/or spectators. This also includes refraining from smoking tobacco products or e-cigarettes during or around the Event.\nLeukaemia UK reserves the right to ask you not to participate in the Event if Leukaemia UK\, the Event organiser or their agents or representatives reasonably believes your participation in the Event could result in: harm to you\, other participants or spectators; and/or damage to the reputation of Leukaemia UK.\n\nLiability  \n\nYou understand that as Leukaemia UK is not the Event organiser it is not responsible for: any illness or injury resulting from your participation in the Event; or any loss or damage sustained by you as a result of the cancellation of the Event or any changes to the Event for any reason.\nNothing in these terms and conditions shall limit or exclude Leukaemia UK’s liability in respect of death or personal injury sustained or a direct result of:\n\nthe negligence\, breach or statutory duty or fraudulent misrepresentation of Leukaemia UK\, its agents or representatives; or\na deliberate act or omission of Leukaemia UK\, its agents or representatives.\n\n\n\nFundraising \n\nEach charity place at an Event represents an important and valuable source of fundraising for us. As we have made an investment to be able to offer places at Events\, we therefore ask each applicant to pledge to raise a minimum level of sponsorship if they subsequently take part in an Event.\nYou agree that all funds you raise in connection with the Event shall be raised using lawful methods and in compliance with any guidance provided by Leukaemia UK.\nPlease note that all monies that you raise in connection with the Event are held on trust for Leukaemia UK\, and therefore you have a legal responsibility to ensure that all sponsorship monies/donations received in connection with an Event are paid to us. We ask that you do this as soon as possible\, but in any event within four weeks of the date of the Event.\n\nPublicity  \n\nEvents may be photographed or filmed for our use in print\, press and online marketing. By attending the event you are giving consent for images of you and your supporters to appear in these\, without payment. If you have any concerns or do not wish to be part of these materials\, please contact Amy Machin on: 020 7299 0722 or amy.machin@leukaemiauk.org.uk ahead of the event.\n\nHealth & Fitness for the Event \n\nYou are satisfied that you are sufficiently fit and able to take part in the Event. This is the sole responsibility of you as the participant\, and if you have any doubts\, please refer to your GP.\nYou understand that you participate in the Event at your own risk.\nIf you are taking medication which could cause drowsiness\, or other side effects please seek medical advice before agreeing to these terms and conditions.\n\nGeneral \n\nYou have provided us with information about you and you consent to Leukaemia UK using this data to register applicants\, manage the applicants’ and Leukaemia UK’s involvement in the Event and keep the participant informed of wider Leukaemia UK activities\, in line with our Privacy Policy\, which explains how we collect and use your personal data.\nLeukaemia UK may vary these terms and conditions from time to time and the up to date terms and conditions shall be available on Leukaemia UK’s website.\n\nComplaints \n\nAny complaints should be communicated to Leukaemia UK’s representative at the Event or\, if that is not possible\, then in writing to Leukaemia UK using our Complaints Procedure.
URL:https://www.leukaemiauk.org.uk/event/event-terms-conditions/
END:VEVENT
END:VCALENDAR